BEGIN:VCALENDAR
VERSION:2.0
PRODID:-//Egg Harbor Historical Society - ECPv6.15.20//NONSGML v1.0//EN
CALSCALE:GREGORIAN
METHOD:PUBLISH
X-ORIGINAL-URL:https://eggharborhistory.org
X-WR-CALDESC:Events for Egg Harbor Historical Society
REFRESH-INTERVAL;VALUE=DURATION:PT1H
X-Robots-Tag:noindex
X-PUBLISHED-TTL:PT1H
BEGIN:VTIMEZONE
TZID:UTC
BEGIN:STANDARD
TZOFFSETFROM:+0000
TZOFFSETTO:+0000
TZNAME:UTC
DTSTART:20250101T000000
END:STANDARD
END:VTIMEZONE
BEGIN:VEVENT
DTSTART;TZID=UTC:20260410T140000
DTEND;TZID=UTC:20260410T160000
DTSTAMP:20260424T005301
CREATED:20260206T201330Z
LAST-MODIFIED:20260326T204044Z
UID:398-1775829600-1775836800@eggharborhistory.org
SUMMARY:Event at Kress Pavilion (Great Hall)
DESCRIPTION:Bookmobile Summertime Stops – Giz Herbst presents information on where the Door County Bookmobile stopped during the summer season.
URL:https://eggharborhistory.org/event/upcoming-event-at-kress-pavilion-great-hall-2/
END:VEVENT
END:VCALENDAR