BEGIN:VCALENDAR
VERSION:2.0
PRODID:-//Egg Harbor Historical Society - ECPv6.15.20//NONSGML v1.0//EN
CALSCALE:GREGORIAN
METHOD:PUBLISH
X-ORIGINAL-URL:https://eggharborhistory.org
X-WR-CALDESC:Events for Egg Harbor Historical Society
REFRESH-INTERVAL;VALUE=DURATION:PT1H
X-Robots-Tag:noindex
X-PUBLISHED-TTL:PT1H
BEGIN:VTIMEZONE
TZID:UTC
BEGIN:STANDARD
TZOFFSETFROM:+0000
TZOFFSETTO:+0000
TZNAME:UTC
DTSTART:20250101T000000
END:STANDARD
END:VTIMEZONE
BEGIN:VEVENT
DTSTART;TZID=UTC:20260519T190000
DTEND;TZID=UTC:20260519T210000
DTSTAMP:20260424T021002
CREATED:20260206T203345Z
LAST-MODIFIED:20260416T193129Z
UID:405-1779217200-1779224400@eggharborhistory.org
SUMMARY:Event at Kress Pavilion (Great Hall)
DESCRIPTION:“A Picture Show\, Now and Then In The Egg Harbor Township”.  A historical display\nfrom Carlsville to the north side of Egg Harbor.
URL:https://eggharborhistory.org/event/up-coming-event-at-kress-pavilion-great-hall/
END:VEVENT
END:VCALENDAR