BEGIN:VCALENDAR
VERSION:2.0
PRODID:-//Egg Harbor Historical Society - ECPv6.15.20//NONSGML v1.0//EN
CALSCALE:GREGORIAN
METHOD:PUBLISH
X-ORIGINAL-URL:https://eggharborhistory.org
X-WR-CALDESC:Events for Egg Harbor Historical Society
REFRESH-INTERVAL;VALUE=DURATION:PT1H
X-Robots-Tag:noindex
X-PUBLISHED-TTL:PT1H
BEGIN:VTIMEZONE
TZID:UTC
BEGIN:STANDARD
TZOFFSETFROM:+0000
TZOFFSETTO:+0000
TZNAME:UTC
DTSTART:20250101T000000
END:STANDARD
END:VTIMEZONE
BEGIN:VEVENT
DTSTART;TZID=UTC:20260410T140000
DTEND;TZID=UTC:20260410T160000
DTSTAMP:20260423T211124
CREATED:20260206T201330Z
LAST-MODIFIED:20260326T204044Z
UID:398-1775829600-1775836800@eggharborhistory.org
SUMMARY:Event at Kress Pavilion (Great Hall)
DESCRIPTION:Bookmobile Summertime Stops – Giz Herbst presents information on where the Door County Bookmobile stopped during the summer season.
URL:https://eggharborhistory.org/event/upcoming-event-at-kress-pavilion-great-hall-2/
END:VEVENT
BEGIN:VEVENT
DTSTART;TZID=UTC:20260317T140000
DTEND;TZID=UTC:20260317T170000
DTSTAMP:20260423T211124
CREATED:20260206T191559Z
LAST-MODIFIED:20260326T204101Z
UID:385-1773756000-1773766800@eggharborhistory.org
SUMMARY:Event at Kress Pavilion (Great Hall)
DESCRIPTION:Egg Harbor Picture Show- Then and Now.  Giz Herbst presents Egg Harbor buildings how they looked back in the early days and what they have evolved to the present day. \n 
URL:https://eggharborhistory.org/event/upcoming-event-at-kress-pavilion-great-hall/
END:VEVENT
BEGIN:VEVENT
DTSTART;TZID=UTC:20260217T140000
DTEND;TZID=UTC:20260217T160000
DTSTAMP:20260423T211124
CREATED:20260206T190417Z
LAST-MODIFIED:20260326T204121Z
UID:380-1771336800-1771344000@eggharborhistory.org
SUMMARY:Event at Kress Pavilion (Great Hall)
DESCRIPTION:Kathy Beck describes her egg collection “Eggs as Art” which includes a history of decorated eggs from around the world\, some antique eggs\, painted\, carved\, ethnic styles and many more techniques and a few of her own carved egg shells. Kathy will also share her stories about the invaluable wild bird egg collection and the priceless 70 million year old dinosaur egg.
URL:https://eggharborhistory.org/event/upcoming-events/
END:VEVENT
END:VCALENDAR