BEGIN:VCALENDAR
VERSION:2.0
PRODID:-//Egg Harbor Historical Society - ECPv6.15.20//NONSGML v1.0//EN
CALSCALE:GREGORIAN
METHOD:PUBLISH
X-WR-CALNAME:Egg Harbor Historical Society
X-ORIGINAL-URL:https://eggharborhistory.org
X-WR-CALDESC:Events for Egg Harbor Historical Society
REFRESH-INTERVAL;VALUE=DURATION:PT1H
X-Robots-Tag:noindex
X-PUBLISHED-TTL:PT1H
BEGIN:VTIMEZONE
TZID:UTC
BEGIN:STANDARD
TZOFFSETFROM:+0000
TZOFFSETTO:+0000
TZNAME:UTC
DTSTART:20250101T000000
END:STANDARD
END:VTIMEZONE
BEGIN:VEVENT
DTSTART;TZID=UTC:20260609T190000
DTEND;TZID=UTC:20260609T210000
DTSTAMP:20260424T140741
CREATED:20260206T203735Z
LAST-MODIFIED:20260326T203841Z
UID:407-1781031600-1781038800@eggharborhistory.org
SUMMARY:Event at Kress Pavilion (Great Hall)
DESCRIPTION:Into the Storm.   Author Jamie Palmer discusses her research for her book:  Into the Storm – the story of Leathem Smith’s fatal sailboat accident.
URL:https://eggharborhistory.org/event/up-coming-event-at-kress-pavilion-great-hall-2/
END:VEVENT
BEGIN:VEVENT
DTSTART;TZID=UTC:20260615T000000
DTEND;TZID=UTC:20260620T235959
DTSTAMP:20260424T140741
CREATED:20260326T205450Z
LAST-MODIFIED:20260326T205450Z
UID:474-1781481600-1781999999@eggharborhistory.org
SUMMARY:Event - History Week
DESCRIPTION:
URL:https://eggharborhistory.org/event/event-history-week/
LOCATION:Crossroads at Hertige Square in Sturgeon Bay
END:VEVENT
BEGIN:VEVENT
DTSTART;TZID=UTC:20260622T180000
DTEND;TZID=UTC:20260622T210000
DTSTAMP:20260424T140741
CREATED:20260402T164615Z
LAST-MODIFIED:20260402T171128Z
UID:481-1782151200-1782162000@eggharborhistory.org
SUMMARY:DCHS Dine & Discover - The Making of the Book: Eagle Bluff Lighthouse
DESCRIPTION:Featuring Barb & Ken Wardius
URL:https://eggharborhistory.org/event/dchs-dine-discover-the-making-of-the-book-eagle-bluff-lighthouse/
LOCATION:Log Den Restaurant\, Hwy 42\, Egg Harbor\, WI\, 54209\, United States
END:VEVENT
BEGIN:VEVENT
DTSTART;TZID=UTC:20260727T180000
DTEND;TZID=UTC:20260727T210000
DTSTAMP:20260424T140741
CREATED:20260402T164907Z
LAST-MODIFIED:20260402T171302Z
UID:483-1785175200-1785186000@eggharborhistory.org
SUMMARY:DCHS Dine & Discover - Exploring Door County Caves
DESCRIPTION:Featuring Gary Soule
URL:https://eggharborhistory.org/event/dchs-dine-discover-exploring-door-county-caves/
LOCATION:The Institute Saloon\, Institute
END:VEVENT
BEGIN:VEVENT
DTSTART;TZID=UTC:20260824T060000
DTEND;TZID=UTC:20260824T210000
DTSTAMP:20260424T140741
CREATED:20260402T165121Z
LAST-MODIFIED:20260402T165121Z
UID:486-1787551200-1787605200@eggharborhistory.org
SUMMARY:DCHS Dine & Discover - Aerial Tour of Door County
DESCRIPTION:Featuring Dr. Glen Tanck
URL:https://eggharborhistory.org/event/dchs-dine-discover-aerial-tour-of-door-county/
LOCATION:Donald & Carol Kress Pavilion\, 7845 Church Street\, Egg Harbor\, 54209\, United States
END:VEVENT
BEGIN:VEVENT
DTSTART;TZID=UTC:20260928T180000
DTEND;TZID=UTC:20260928T210000
DTSTAMP:20260424T140741
CREATED:20260402T165346Z
LAST-MODIFIED:20260402T165346Z
UID:488-1790618400-1790629200@eggharborhistory.org
SUMMARY:DCHS Dine & Discover - Hail to the Prophet King of Beaver Island
DESCRIPTION:Featuring Peter Lison
URL:https://eggharborhistory.org/event/dchs-dine-discover-hail-to-the-prophet-king-of-beaver-island/
END:VEVENT
END:VCALENDAR